BEGIN:VCALENDAR
VERSION:2.0
PRODID:-//time.now/holidays//NONSGML v1.0//EN
BEGIN:VEVENT
UID:76a5b09a-7dcd-4259-8a8c-5bc31fbad7b5
DTSTAMP:20260422T121303Z
DTSTART;VALUE=DATE:20280103
SUMMARY:New Year's Day (observed) (Bosnia y Herzegovina)
END:VEVENT
END:VCALENDAR