BEGIN:VCALENDAR
VERSION:2.0
PRODID:-//time.now/holidays//NONSGML v1.0//EN
BEGIN:VEVENT
UID:5fd81115-ba56-4be2-b368-c7e792e37402
DTSTAMP:20260422T122751Z
DTSTART;VALUE=DATE:20270503
SUMMARY:International Labor Day (observed); Orthodox Easter Monday (Bosnia y Herzegovina)
END:VEVENT
END:VCALENDAR