BEGIN:VCALENDAR
VERSION:2.0
PRODID:-//time.now/holidays//NONSGML v1.0//EN
BEGIN:VEVENT
UID:6fe727e4-ece2-47bc-980a-64b51f954b4c
DTSTAMP:20260422T121305Z
DTSTART;VALUE=DATE:20260301
SUMMARY:Independence Day (Bosnia y Herzegovina)
END:VEVENT
END:VCALENDAR