BEGIN:VCALENDAR
VERSION:2.0
PRODID:-//time.now/holidays//NONSGML v1.0//EN
BEGIN:VEVENT
UID:37d064c6-4211-4f8a-bb02-5743a47791da
DTSTAMP:20260422T105202Z
DTSTART;VALUE=DATE:20260320
SUMMARY:Eid al-Fitr (estimated) (Bosnia y Herzegovina)
END:VEVENT
END:VCALENDAR