BEGIN:VCALENDAR
VERSION:2.0
PRODID:-//time.now/holidays//NONSGML v1.0//EN
BEGIN:VEVENT
UID:3f78db9b-197f-4e4e-89dd-da02e22a1422
DTSTAMP:20260422T122732Z
DTSTART;VALUE=DATE:20230628
SUMMARY:Eid al-Adha (Bosnia y Herzegovina)
END:VEVENT
END:VCALENDAR