BEGIN:VCALENDAR
VERSION:2.0
PRODID:-//time.now/holidays//NONSGML v1.0//EN
BEGIN:VEVENT
UID:242fd14d-0fbb-4adb-9b12-b3da497c40e0
DTSTAMP:20260422T122732Z
DTSTART;VALUE=DATE:20260403
SUMMARY:Catholic Good Friday (Bosnia y Herzegovina)
END:VEVENT
END:VCALENDAR