BEGIN:VCALENDAR
VERSION:2.0
PRODID:-//time.now/holidays//NONSGML v1.0//EN
BEGIN:VEVENT
UID:dee5f552-6e58-436c-bab8-4204adae45b9
DTSTAMP:20260422T105304Z
DTSTART;VALUE=DATE:20260406
SUMMARY:Catholic Easter Monday (Bosnia y Herzegovina)
END:VEVENT
END:VCALENDAR