BEGIN:VCALENDAR
VERSION:2.0
PRODID:-//time.now/holidays//NONSGML v1.0//EN
BEGIN:VEVENT
UID:81c9c9a5-53f8-4633-8083-14d42313bc3e
DTSTAMP:20260420T052021Z
DTSTART;VALUE=DATE:20260501
SUMMARY:Labor Day (Bolivia)
END:VEVENT
END:VCALENDAR