BEGIN:VCALENDAR
VERSION:2.0
PRODID:-//time.now/holidays//NONSGML v1.0//EN
BEGIN:VEVENT
UID:a201c2cd-add1-4f8c-a7ef-2cb73dcf7a1d
DTSTAMP:20260420T064601Z
DTSTART;VALUE=DATE:20261118
SUMMARY:Beni Day (Bolivia)
END:VEVENT
END:VCALENDAR