BEGIN:VCALENDAR
VERSION:2.0
PRODID:-//time.now/holidays//NONSGML v1.0//EN
BEGIN:VEVENT
UID:f3a689db-a40f-4e08-a3ad-fc08c7949ae7
DTSTAMP:20260420T203630Z
DTSTART;VALUE=DATE:20260622
SUMMARY:Aymara New Year (observed) (Bolivia)
END:VEVENT
END:VCALENDAR