BEGIN:VCALENDAR
VERSION:2.0
PRODID:-//time.now/holidays//NONSGML v1.0//EN
BEGIN:VEVENT
UID:665ab4a9-bb23-4787-9eda-b82580bae77d
DTSTAMP:20260420T135555Z
DTSTART;VALUE=DATE:20280103
SUMMARY:New Year's Day (observed) (Bermudas)
END:VEVENT
END:VCALENDAR