BEGIN:VCALENDAR
VERSION:2.0
PRODID:-//time.now/holidays//NONSGML v1.0//EN
BEGIN:VEVENT
UID:ba88baa3-07e4-4704-9bbd-0658173e0db3
DTSTAMP:20260420T183541Z
DTSTART;VALUE=DATE:20260615
SUMMARY:National Heroes Day (Bermudas)
END:VEVENT
END:VCALENDAR