BEGIN:VCALENDAR
VERSION:2.0
PRODID:-//time.now/holidays//NONSGML v1.0//EN
BEGIN:VEVENT
UID:8c22766f-8f45-4016-877a-6908ea92a558
DTSTAMP:20260420T144000Z
DTSTART;VALUE=DATE:20260731
SUMMARY:Mary Prince Day (Bermudas)
END:VEVENT
END:VCALENDAR