BEGIN:VCALENDAR
VERSION:2.0
PRODID:-//time.now/holidays//NONSGML v1.0//EN
BEGIN:VEVENT
UID:6c9fd7e7-b349-4c14-8b58-183bbd3015be
DTSTAMP:20260420T130800Z
DTSTART;VALUE=DATE:20271227
SUMMARY:Christmas Day (observed) (Bermudas)
END:VEVENT
END:VCALENDAR