BEGIN:VCALENDAR
VERSION:2.0
PRODID:-//time.now/holidays//NONSGML v1.0//EN
BEGIN:VEVENT
UID:51020552-e6fa-45df-bd72-8d547b6a090d
DTSTAMP:20260420T024435Z
DTSTART;VALUE=DATE:20261226
SUMMARY:Boxing Day (Bermudas)
END:VEVENT
END:VCALENDAR