BEGIN:VCALENDAR
VERSION:2.0
PRODID:-//time.now/holidays//NONSGML v1.0//EN
BEGIN:VEVENT
UID:24f77650-6a3c-49f0-aaea-0ef25434402e
DTSTAMP:20260420T064935Z
DTSTART;VALUE=DATE:20261228
SUMMARY:Boxing Day (observed) (Bermudas)
END:VEVENT
END:VCALENDAR