BEGIN:VCALENDAR
VERSION:2.0
PRODID:-//time.now/holidays//NONSGML v1.0//EN
BEGIN:VEVENT
UID:739dbe67-ecbf-4f59-b585-9d4ee67ffdaa
DTSTAMP:20260420T122504Z
DTSTART;VALUE=DATE:20260101
SUMMARY:New Year's Day (Benín)
END:VEVENT
END:VCALENDAR