BEGIN:VCALENDAR
VERSION:2.0
PRODID:-//time.now/holidays//NONSGML v1.0//EN
BEGIN:VEVENT
UID:e35fa7c4-710e-4fd6-ab6d-84e226e4bbea
DTSTAMP:20260420T124200Z
DTSTART;VALUE=DATE:20260801
SUMMARY:National Day (Benín)
END:VEVENT
END:VCALENDAR