BEGIN:VCALENDAR
VERSION:2.0
PRODID:-//time.now/holidays//NONSGML v1.0//EN
BEGIN:VEVENT
UID:db710019-3c73-49be-926d-7ab224244598
DTSTAMP:20260420T052520Z
DTSTART;VALUE=DATE:20260815
SUMMARY:Assumption Day (Benín)
END:VEVENT
END:VCALENDAR