BEGIN:VCALENDAR
VERSION:2.0
PRODID:-//time.now/holidays//NONSGML v1.0//EN
BEGIN:VEVENT
UID:1cbb6cd8-442c-4714-9afe-bf090bdd8614
DTSTAMP:20260420T115014Z
DTSTART;VALUE=DATE:20260910
SUMMARY:Saint George's Caye Day (Belice)
END:VEVENT
END:VCALENDAR