BEGIN:VCALENDAR
VERSION:2.0
PRODID:-//time.now/holidays//NONSGML v1.0//EN
BEGIN:VEVENT
UID:6c931ea1-4f77-4e97-a12f-672f1bf48049
DTSTAMP:20260420T062840Z
DTSTART;VALUE=DATE:20260101
SUMMARY:New Year's Day (Belice)
END:VEVENT
END:VCALENDAR