BEGIN:VCALENDAR
VERSION:2.0
PRODID:-//time.now/holidays//NONSGML v1.0//EN
BEGIN:VEVENT
UID:e68e3e9c-05f7-4528-93f7-d42b37a7effa
DTSTAMP:20260420T045146Z
DTSTART;VALUE=DATE:20330502
SUMMARY:Labour Day (observed) (Belice)
END:VEVENT
END:VCALENDAR