BEGIN:VCALENDAR
VERSION:2.0
PRODID:-//time.now/holidays//NONSGML v1.0//EN
BEGIN:VEVENT
UID:a9a066b1-454c-486c-b637-0c0e1e138c3b
DTSTAMP:20260420T213625Z
DTSTART;VALUE=DATE:20271011
SUMMARY:Indigenous Peoples' Resistance Day (observed) (Belice)
END:VEVENT
END:VCALENDAR