BEGIN:VCALENDAR
VERSION:2.0
PRODID:-//time.now/holidays//NONSGML v1.0//EN
BEGIN:VEVENT
UID:3c2635c0-a3ca-43e4-84bf-1c486a864e53
DTSTAMP:20260420T074501Z
DTSTART;VALUE=DATE:20260404
SUMMARY:Holy Saturday (Belice)
END:VEVENT
END:VCALENDAR