BEGIN:VCALENDAR
VERSION:2.0
PRODID:-//time.now/holidays//NONSGML v1.0//EN
BEGIN:VEVENT
UID:599f08ce-eab5-4af0-bad0-490de3c5d0fd
DTSTAMP:20260419T211058Z
DTSTART;VALUE=DATE:20260403
SUMMARY:Good Friday (Belice)
END:VEVENT
END:VCALENDAR