BEGIN:VCALENDAR
VERSION:2.0
PRODID:-//time.now/holidays//NONSGML v1.0//EN
BEGIN:VEVENT
UID:e9b5ba7a-259a-4247-af69-6b3636fd4061
DTSTAMP:20260420T172047Z
DTSTART;VALUE=DATE:20260101
SUMMARY:New Year's Day (Bélgica)
END:VEVENT
END:VCALENDAR