BEGIN:VCALENDAR
VERSION:2.0
PRODID:-//time.now/holidays//NONSGML v1.0//EN
BEGIN:VEVENT
UID:58a5c95c-7df6-42f8-8045-616b2261c6f5
DTSTAMP:20260420T155010Z
DTSTART;VALUE=DATE:20261111
SUMMARY:Armistice Day (Bélgica)
END:VEVENT
END:VCALENDAR