BEGIN:VCALENDAR
VERSION:2.0
PRODID:-//time.now/holidays//NONSGML v1.0//EN
BEGIN:VEVENT
UID:e980ab08-4bba-4a78-bde2-ae1c5953eb14
DTSTAMP:20260422T104140Z
DTSTART;VALUE=DATE:20260421
SUMMARY:Radunitsa (Day of Rejoicing) (Bielorrusia)
END:VEVENT
END:VCALENDAR