BEGIN:VCALENDAR
VERSION:2.0
PRODID:-//time.now/holidays//NONSGML v1.0//EN
BEGIN:VEVENT
UID:95539ad3-54ff-4f26-9053-448767169660
DTSTAMP:20260420T200821Z
DTSTART;VALUE=DATE:20261107
SUMMARY:October Revolution Day (Bielorrusia)
END:VEVENT
END:VCALENDAR