BEGIN:VCALENDAR
VERSION:2.0
PRODID:-//time.now/holidays//NONSGML v1.0//EN
BEGIN:VEVENT
UID:98a75ccd-c0e4-470e-becf-48808398232f
DTSTAMP:20260420T022652Z
DTSTART;VALUE=DATE:20260501
SUMMARY:Labor Day (Bielorrusia)
END:VEVENT
END:VCALENDAR