BEGIN:VCALENDAR
VERSION:2.0
PRODID:-//time.now/holidays//NONSGML v1.0//EN
BEGIN:VEVENT
UID:50062dfb-3f37-4456-be6a-744e48fb4dbf
DTSTAMP:20260422T193241Z
DTSTART;VALUE=DATE:20300429
SUMMARY:National Heroes Day (observed) (Barbados)
END:VEVENT
END:VCALENDAR