BEGIN:VCALENDAR
VERSION:2.0
PRODID:-//time.now/holidays//NONSGML v1.0//EN
BEGIN:VEVENT
UID:c607199d-b88b-46a2-a3c1-2c44fc71a72a
DTSTAMP:20260420T014244Z
DTSTART;VALUE=DATE:20260801
SUMMARY:Emancipation Day (Barbados)
END:VEVENT
END:VCALENDAR