BEGIN:VCALENDAR
VERSION:2.0
PRODID:-//time.now/holidays//NONSGML v1.0//EN
BEGIN:VEVENT
UID:588443a5-66ab-4cd5-a0c5-842889a612e8
DTSTAMP:20260422T105204Z
DTSTART;VALUE=DATE:20230731
SUMMARY:50th Anniversary of CARICOM Holiday (Barbados)
END:VEVENT
END:VCALENDAR