BEGIN:VCALENDAR
VERSION:2.0
PRODID:-//time.now/holidays//NONSGML v1.0//EN
BEGIN:VEVENT
UID:3bc902ec-7f71-4dba-9e3b-468bda523d68
DTSTAMP:20260421T004019Z
DTSTART;VALUE=DATE:20260221
SUMMARY:International Mother's language Day (Bangladesh)
END:VEVENT
END:VCALENDAR