BEGIN:VCALENDAR
VERSION:2.0
PRODID:-//time.now/holidays//NONSGML v1.0//EN
BEGIN:VEVENT
UID:2b40a920-7ada-4902-8a5b-a60c8e7bd5d9
DTSTAMP:20260422T090011Z
DTSTART;VALUE=DATE:20260321
SUMMARY:Eid al-Fitr Holiday (estimated) (Baréin)
END:VEVENT
END:VCALENDAR