BEGIN:VCALENDAR
VERSION:2.0
PRODID:-//time.now/holidays//NONSGML v1.0//EN
BEGIN:VEVENT
UID:be967487-8d1e-40f5-b898-6539894741a6
DTSTAMP:20260420T215135Z
DTSTART;VALUE=DATE:20260528
SUMMARY:Eid al-Adha Holiday (estimated) (Baréin)
END:VEVENT
END:VCALENDAR