BEGIN:VCALENDAR
VERSION:2.0
PRODID:-//time.now/holidays//NONSGML v1.0//EN
BEGIN:VEVENT
UID:96af7458-88c9-484c-9e3f-57da3b3e96f2
DTSTAMP:20260420T071937Z
DTSTART;VALUE=DATE:20260710
SUMMARY:Independence Day (Bahamas)
END:VEVENT
END:VCALENDAR