BEGIN:VCALENDAR
VERSION:2.0
PRODID:-//time.now/holidays//NONSGML v1.0//EN
BEGIN:VEVENT
UID:cec667da-9432-4264-8e80-757624741ced
DTSTAMP:20260420T162109Z
DTSTART;VALUE=DATE:20260308
SUMMARY:Women's Day (Azerbaiyán)
END:VEVENT
END:VCALENDAR