BEGIN:VCALENDAR
VERSION:2.0
PRODID:-//time.now/holidays//NONSGML v1.0//EN
BEGIN:VEVENT
UID:3f551c5b-ebc0-41b7-afa3-93b891c113c9
DTSTAMP:20260422T093013Z
DTSTART;VALUE=DATE:20260511
SUMMARY:Victory over Fascism Day (observed) (Azerbaiyán)
END:VEVENT
END:VCALENDAR