BEGIN:VCALENDAR
VERSION:2.0
PRODID:-//time.now/holidays//NONSGML v1.0//EN
BEGIN:VEVENT
UID:e6bd95d1-5216-49ac-b4bd-5adb25b33e9f
DTSTAMP:20260420T182308Z
DTSTART;VALUE=DATE:20250129
SUMMARY:Municipal elections (Azerbaiyán)
END:VEVENT
END:VCALENDAR