BEGIN:VCALENDAR
VERSION:2.0
PRODID:-//time.now/holidays//NONSGML v1.0//EN
BEGIN:VEVENT
UID:9889976a-12bd-411f-befc-1afd3d7a5d91
DTSTAMP:20260421T004350Z
DTSTART;VALUE=DATE:20261231
SUMMARY:International Azerbaijanis Solidarity Day (Azerbaiyán)
END:VEVENT
END:VCALENDAR