BEGIN:VCALENDAR
VERSION:2.0
PRODID:-//time.now/holidays//NONSGML v1.0//EN
BEGIN:VEVENT
UID:92853b65-29b8-4d53-b3c1-4275d3c6311a
DTSTAMP:20260420T083208Z
DTSTART;VALUE=DATE:20270528
SUMMARY:Independence Day (Azerbaiyán)
END:VEVENT
END:VCALENDAR