BEGIN:VCALENDAR
VERSION:2.0
PRODID:-//time.now/holidays//NONSGML v1.0//EN
BEGIN:VEVENT
UID:33d28d47-ebdb-4006-a84b-ea8d94fa6b1c
DTSTAMP:20260422T193216Z
DTSTART;VALUE=DATE:20250328
SUMMARY:Eid al-Fitr (observed) (Azerbaiyán)
END:VEVENT
END:VCALENDAR