BEGIN:VCALENDAR
VERSION:2.0
PRODID:-//time.now/holidays//NONSGML v1.0//EN
BEGIN:VEVENT
UID:2a8d2859-84e8-4c0f-8cec-3dedf193155c
DTSTAMP:20260422T103920Z
DTSTART;VALUE=DATE:20260325
SUMMARY:Eid al-Fitr (observed, estimated); Spring Festival (observed) (Azerbaiyán)
END:VEVENT
END:VCALENDAR