BEGIN:VCALENDAR
VERSION:2.0
PRODID:-//time.now/holidays//NONSGML v1.0//EN
BEGIN:VEVENT
UID:5862f2b5-7882-4169-b701-2f49eb72b2d9
DTSTAMP:20260422T210319Z
DTSTART;VALUE=DATE:20270309
SUMMARY:Eid al-Fitr (estimated) (Azerbaiyán)
END:VEVENT
END:VCALENDAR