BEGIN:VCALENDAR
VERSION:2.0
PRODID:-//time.now/holidays//NONSGML v1.0//EN
BEGIN:VEVENT
UID:a4ee9933-c21a-45e5-bfa8-89d65aff85ac
DTSTAMP:20260420T213222Z
DTSTART;VALUE=DATE:20240104
SUMMARY:Day off (substituted from 12/30/2023) (Azerbaiyán)
END:VEVENT
END:VCALENDAR