BEGIN:VCALENDAR
VERSION:2.0
PRODID:-//time.now/holidays//NONSGML v1.0//EN
BEGIN:VEVENT
UID:18b3eb50-5cb1-4a8f-a4b9-4523b6c5142d
DTSTAMP:20260420T214827Z
DTSTART;VALUE=DATE:20241112
SUMMARY:Day off (substituted from 11/16/2024) (Azerbaiyán)
END:VEVENT
END:VCALENDAR