BEGIN:VCALENDAR
VERSION:2.0
PRODID:-//time.now/holidays//NONSGML v1.0//EN
BEGIN:VEVENT
UID:2334d8e9-d6b9-4bee-885a-3050b99eeadd
DTSTAMP:20260420T203915Z
DTSTART;VALUE=DATE:20221107
SUMMARY:Day off (substituted from 11/05/2022) (Azerbaiyán)
END:VEVENT
END:VCALENDAR