BEGIN:VCALENDAR
VERSION:2.0
PRODID:-//time.now/holidays//NONSGML v1.0//EN
BEGIN:VEVENT
UID:601f4ae9-0f84-443b-8d29-8b0c1844679c
DTSTAMP:20260420T205838Z
DTSTART;VALUE=DATE:20240105
SUMMARY:Day off (substituted from 01/07/2024) (Azerbaiyán)
END:VEVENT
END:VCALENDAR