BEGIN:VCALENDAR
VERSION:2.0
PRODID:-//time.now/holidays//NONSGML v1.0//EN
BEGIN:VEVENT
UID:bc7ca52b-9704-424b-9740-28582d2bcedb
DTSTAMP:20260420T010701Z
DTSTART;VALUE=DATE:20260815
SUMMARY:Assumption Day (Austria)
END:VEVENT
END:VCALENDAR